BEGIN:VCALENDAR
VERSION:2.0
PRODID:-//Bear Valley Community Healthcare District - ECPv6.15.18//NONSGML v1.0//EN
CALSCALE:GREGORIAN
METHOD:PUBLISH
X-ORIGINAL-URL:https://bvchd.com
X-WR-CALDESC:Events for Bear Valley Community Healthcare District
REFRESH-INTERVAL;VALUE=DURATION:PT1H
X-Robots-Tag:noindex
X-PUBLISHED-TTL:PT1H
BEGIN:VTIMEZONE
TZID:UTC
BEGIN:STANDARD
TZOFFSETFROM:+0000
TZOFFSETTO:+0000
TZNAME:UTC
DTSTART:20250101T000000
END:STANDARD
END:VTIMEZONE
BEGIN:VEVENT
DTSTART;TZID=UTC:20260130T100000
DTEND;TZID=UTC:20260130T120000
DTSTAMP:20260423T094700
CREATED:20260108T015955Z
LAST-MODIFIED:20260108T015955Z
UID:1761-1769767200-1769774400@bvchd.com
SUMMARY:Curious Constructors (Mom & Dad Project)
DESCRIPTION:WHAT TO EXPECT IN THIS CLASS? \nGrow Together: \n10 Weeks of Connection & Learning \n30 Minutes \nParent-Child Engagement for creativity and bonding \n1.5 Hour \nParent Education & Community Time— discover practical parenting strategies and connect with other caregivers. \nPlease call Johanna Sanders for more information\n(909) 878-2326.
URL:https://bvchd.com/event/curious-constructors-mom-dad-project-2/
LOCATION:Brenda Boss Family Resource Center\, 4911 North Shore Drive\, Big Bear\, CA\, 92314\, United States
CATEGORIES:Parenting
END:VEVENT
BEGIN:VEVENT
DTSTART;TZID=UTC:20260130T180000
DTEND;TZID=UTC:20260130T190000
DTSTAMP:20260423T094700
CREATED:20260112T154210Z
LAST-MODIFIED:20260203T010715Z
UID:1779-1769796000-1769799600@bvchd.com
SUMMARY:Life Recovery
DESCRIPTION:Life Recovery is a Christ-centered 12-Step Meeting held at Bear Valley Church in Big Bear Lake. \n📍 41960 Big Bear Blvd\n🕕 Every Friday at 6 PM\n👥 Facilitated by Andy Meadors (909.838.8391) \nStart Your Journey to FREEDOM! \nThis group is open to anyone struggling with addiction\, grief\, codependency\, trauma\, or family struggles\, there is a safe place here for you.
URL:https://bvchd.com/event/life-recovery-3/
LOCATION:Bear Valley Curch\, 41960 Big Bear Blvd\, Big Bear Lake\, California\, United States\, CA\, 92315\, United States
CATEGORIES:Sobriety
END:VEVENT
END:VCALENDAR