BEGIN:VCALENDAR
VERSION:2.0
PRODID:-//Bear Valley Community Healthcare District - ECPv6.15.18//NONSGML v1.0//EN
CALSCALE:GREGORIAN
METHOD:PUBLISH
X-ORIGINAL-URL:https://bvchd.com
X-WR-CALDESC:Events for Bear Valley Community Healthcare District
REFRESH-INTERVAL;VALUE=DURATION:PT1H
X-Robots-Tag:noindex
X-PUBLISHED-TTL:PT1H
BEGIN:VTIMEZONE
TZID:UTC
BEGIN:STANDARD
TZOFFSETFROM:+0000
TZOFFSETTO:+0000
TZNAME:UTC
DTSTART:20250101T000000
END:STANDARD
END:VTIMEZONE
BEGIN:VEVENT
DTSTART;TZID=UTC:20260218T120000
DTEND;TZID=UTC:20260218T140000
DTSTAMP:20260423T094716
CREATED:20260112T222236Z
LAST-MODIFIED:20260112T222236Z
UID:1804-1771416000-1771423200@bvchd.com
SUMMARY:Food Bank - Journey Church
DESCRIPTION:Weekly food pantry at The Journey Church in partnership with Big Bear Foursquare Church. \nEvery Wednesday. Signups start at 11. Food is distributed at noon. A short Bible message is shared at 11:40 a.m. \n*Per the church website\, some weeks are missed due to holidays\, inclement weather or other unforeseen event. Please check the Journey Church Group Page on Facebook to see if the pantry is closed.
URL:https://bvchd.com/event/food-bank-journey-church-6/
LOCATION:Journey Church\, 800 Greenspot Blvd\, Big Bear City\, CA\, 92314\, United States
CATEGORIES:Food Pantry
END:VEVENT
END:VCALENDAR